BEGIN:VCALENDAR
VERSION:2.0
PRODID:-//ChamberMaster//Event Calendar 2.0//EN
METHOD:PUBLISH
X-PUBLISHED-TTL:P3D
REFRESH-INTERVAL:P3D
CALSCALE:GREGORIAN
BEGIN:VEVENT
DTSTART;VALUE=DATE:20130201
DTEND;VALUE=DATE:20130203
TRANSP:TRANSPARENT
X-MICROSOFT-CDO-ALLDAYEVENT:TRUE
SUMMARY:“Shrek the Musical” at The Whiting
DESCRIPTION:www.thewhiting.com
X-ALT-DESC;FMTTYPE=text/html:<a href="http://www.thewhiting.com/" target="_blank">www.thewhiting.com</a>
LOCATION:The Whiting 1241 E. Kearsley St. Flint Michigan 48503
UID:e.2606.80
SEQUENCE:3
DTSTAMP:20260422T091114Z
URL:https://members.flintandgeneseechamber.org/events/details/shrek-the-musical-at-the-whiting-02-01-2013-80
END:VEVENT

END:VCALENDAR
