BEGIN:VCALENDAR
VERSION:2.0
PRODID:-//ChamberMaster//Event Calendar 2.0//EN
METHOD:PUBLISH
X-PUBLISHED-TTL:P3D
REFRESH-INTERVAL:P3D
CALSCALE:GREGORIAN
BEGIN:VEVENT
DTSTART:20140629T130000Z
DTEND:20140629T210000Z
X-MICROSOFT-CDO-ALLDAYEVENT:FALSE
SUMMARY:Sloan Museum Auto Fair
DESCRIPTION:Enjoy this fun-filled show with plenty of music\, entertainment\, vendors\, swap meets\, activities for children and of course\, automobiles! The Flint Cultural Center Campus becomes home to more than 700 of the best looking cars\, trucks and motorcycles. Vehicle registration begins at 8 a.m. or register online by clicking on the link below. Entrance to the Sloan Museum and Buick Automotive Gallery is included with Fair admission. Fair hours run Saturday\, from 9 a.m. to 5 p.m.\, and Sunday from 9 a.m. to 3 p.m. For details and a schedule of upcoming events visit www.sloanautofair.com.
X-ALT-DESC;FMTTYPE=text/html:Enjoy this fun-filled show with plenty of music\, entertainment\, vendors\, swap meets\, activities for children and of course\, automobiles! The Flint Cultural Center Campus becomes home to more than 700 of the best looking cars\, trucks and motorcycles. Vehicle registration begins at 8 a.m. or register online by clicking on the link below. Entrance to the Sloan Museum and Buick Automotive Gallery is included with Fair admission. Fair hours run Saturday\, from 9 a.m. to 5 p.m.\, and Sunday from 9 a.m. to 3 p.m. For details and a schedule of upcoming events visit<a title="Sloan Museum Auto fair" href="http://www.sloanautofair.com/" target="_blank"> www.sloanautofair.com</a>.
LOCATION:Sloan Museum 1221 E. Kearsley Street Flint Michigan 48503
UID:e.2606.999
SEQUENCE:3
DTSTAMP:20260421T101953Z
URL:https://members.flintandgeneseechamber.org/events/details/sloan-museum-auto-fair-06-29-2014-999
END:VEVENT

END:VCALENDAR
