BEGIN:VCALENDAR
VERSION:2.0
PRODID:-//ChamberMaster//Event Calendar 2.0//EN
METHOD:PUBLISH
X-PUBLISHED-TTL:P3D
REFRESH-INTERVAL:P3D
CALSCALE:GREGORIAN
BEGIN:VEVENT
DTSTART;VALUE=DATE:20130622
DTEND;VALUE=DATE:20130624
TRANSP:TRANSPARENT
X-MICROSOFT-CDO-ALLDAYEVENT:TRUE
SUMMARY:Sloan Museum Summer Auto Fair
DESCRIPTION:This event is a fun-filled two-day show with plenty of music\, entertainment\, vendors and of course\, automobiles! The Flint Cultural Center campus becomes home to more than 600 of the best looking cars\, trucks and motorcycles around. Vehicle registration begins at 8 a.m. The visitor gates open Saturday and Sunday at 9 a.m. Come back on Sunday to see everything you missed on Saturday and find out who won awards. Families will enjoy cars\, exhibits\, kids activities\, music and much more. Entrance to the Sloan Museum and Buick Automotive Gallery is included with Auto Fair admission. The Auto Fair is open on Saturday 9 a.m. to 5 p.m. and on Sunday 9 a.m. to 3 p.m. For more information visit www.sloanautofair.com.
X-ALT-DESC;FMTTYPE=text/html:This event is a fun-filled two-day show with plenty of music\, entertainment\, vendors and of course\, automobiles! The Flint Cultural Center campus becomes home to more than 600 of the best looking cars\, trucks and motorcycles around. Vehicle registration begins at 8 a.m. The visitor gates open Saturday and Sunday at 9 a.m. Come back on Sunday to see everything you missed on Saturday and find out who won awards. Families will enjoy cars\, exhibits\, kids activities\, music and much more. Entrance to the Sloan Museum and Buick Automotive Gallery is included with Auto Fair admission. The Auto Fair is open on Saturday 9 a.m. to 5 p.m. and on Sunday 9 a.m. to 3 p.m. For more information visit <a href="http://www.sloanautofair.com/" target="_blank">www.sloanautofair.com</a>.
LOCATION:Sloan Museum 1221 E. Kearsley Street Flint Michigan 48503
UID:e.2606.109
SEQUENCE:3
DTSTAMP:20260422T023200Z
URL:https://members.flintandgeneseechamber.org/events/details/sloan-museum-summer-auto-fair-06-22-2013-109
END:VEVENT

END:VCALENDAR
