BEGIN:VCALENDAR
VERSION:2.0
PRODID:-//ChamberMaster//Event Calendar 2.0//EN
METHOD:PUBLISH
X-PUBLISHED-TTL:P3D
REFRESH-INTERVAL:P3D
CALSCALE:GREGORIAN
BEGIN:VEVENT
DTSTART:20140329T193000Z
DTEND:20140330T203000Z
X-MICROSOFT-CDO-ALLDAYEVENT:FALSE
SUMMARY:''Solar System Safari'' at Longway Planetarium
DESCRIPTION:Take an exciting safari trip through the Solar System as the Sun\, Moon\, planets and dwarf planets come to life\, taking on unique personalities and describing their own characteristics and eccentricities. Recommended for ages 5 and older. For details and a schedule of upcoming shows visit www.sloanlongway.com.
X-ALT-DESC;FMTTYPE=text/html:Take an exciting safari trip through the Solar System as the Sun\, Moon\, planets and dwarf planets come to life\, taking on unique personalities and describing their own characteristics and eccentricities. Recommended for ages 5 and older. For details and a schedule of upcoming shows visit <a title="Longway Planetarium" href="http://www.sloanlongway.com/" target="_blank">www.sloanlongway.com</a>.
LOCATION:Longway Planetarium 1310 E. Kearsley Street Flint Michigan
UID:e.2606.776
SEQUENCE:3
DTSTAMP:20260421T124939Z
URL:https://members.flintandgeneseechamber.org/events/details/solar-system-safari-at-longway-planetarium-03-29-2014-776
END:VEVENT

END:VCALENDAR
