BEGIN:VCALENDAR
VERSION:2.0
PRODID:-//ChamberMaster//Event Calendar 2.0//EN
METHOD:PUBLISH
X-PUBLISHED-TTL:P3D
REFRESH-INTERVAL:P3D
CALSCALE:GREGORIAN
BEGIN:VEVENT
DTSTART:20190602T180000Z
DTEND:20190602T200000Z
X-MICROSOFT-CDO-ALLDAYEVENT:FALSE
SUMMARY:Songs About Stuff: The Music of Wally Pleasant
DESCRIPTION:Welcome to the hilarious world of Mid-Michigan singer/songwriter Wally Pleasant! This intimate world premiere musical revue is an offbeat celebration of his music\, humor and quirky way of looking at the world. Guests can enjoy this American Sign Language Interpreted performance. For more information and a schedule of upcoming performances at Flint Repertory Theatre visit thewhiting.com.
X-ALT-DESC;FMTTYPE=text/html:<span style="color: rgb(51\, 51\, 51)\; font-family: sans-serif\, Arial\, Verdana\, &quot\;Trebuchet MS&quot\;\; font-size: 13px\; background-color: rgb(255\, 255\, 255)\;">Welcome to the hilarious world of Mid-Michigan singer/songwriter Wally Pleasant! This intimate world premiere musical revue is an offbeat celebration of his music\, humor and quirky way of looking at the world. Guests can enjoy this American Sign Language Interpreted performance. For more information and a schedule of upcoming performances at Flint Repertory Theatre visit&nbsp\;</span><a href="http://thewhiting.com/" style="color: rgb(7\, 130\, 193)\; font-family: sans-serif\, Arial\, Verdana\, &quot\;Trebuchet MS&quot\;\; font-size: 13px\;" target="_blank">thewhiting.com</a><span style="color: rgb(51\, 51\, 51)\; font-family: sans-serif\, Arial\, Verdana\, &quot\;Trebuchet MS&quot\;\; font-size: 13px\; background-color: rgb(255\, 255\, 255)\;">.&nbsp\; &nbsp\;&nbsp\;</span>
LOCATION:Flint Repertory Theatre Elgood Theatre 1220 E. Kearsley Street Flint\, MI 48503
UID:e.2606.8819
SEQUENCE:3
DTSTAMP:20260421T085523Z
URL:https://members.flintandgeneseechamber.org/events/details/songs-about-stuff-the-music-of-wally-pleasant-8819
END:VEVENT

END:VCALENDAR
