BEGIN:VCALENDAR
VERSION:2.0
PRODID:-//ChamberMaster//Event Calendar 2.0//EN
METHOD:PUBLISH
X-PUBLISHED-TTL:P3D
REFRESH-INTERVAL:P3D
CALSCALE:GREGORIAN
BEGIN:VEVENT
DTSTART:20140715T230000Z
DTEND:20140716T010000Z
X-MICROSOFT-CDO-ALLDAYEVENT:FALSE
SUMMARY:Southern Rock Under the Stars!
DESCRIPTION:The Clio Amphitheater presents a night of superstars of southern rock featuring Black Oak Arkansas with Jim Dandy and lead guitarist Ricky Lee who will perform classic hits from the 70's as well as their new release on Atlantic Records. The show's opening act will be The Donny Hartman Band featuring legendary lead singer and guitarist for "The Frost" who will play their favorite southern rock\, country and Rock-N-Roll tunes. Gates open at 6 p.m. For details and a schedule of upcoming shows visit www.clio.govoffice.com.
X-ALT-DESC;FMTTYPE=text/html:The Clio Amphitheater presents a night of superstars of southern rock featuring Black Oak Arkansas with Jim Dandy and lead guitarist Ricky Lee who will perform classic hits from the 70's as well as their new release on Atlantic Records. The show's opening act will be The Donny Hartman Band featuring legendary lead singer and guitarist for "The Frost" who will play their favorite southern rock\, country and Rock-N-Roll tunes. Gates open at 6 p.m. For details and a schedule of upcoming shows visit <a title="Clio Amphitheater" href="http://www.clio.govoffice.com/" target="_blank">www.clio.govoffice.com</a>.
LOCATION:Clio Amphitheater 301 Rogers Lodge Drive Clio Michigan
UID:e.2606.1077
SEQUENCE:3
DTSTAMP:20260421T084902Z
URL:https://members.flintandgeneseechamber.org/events/details/southern-rock-under-the-stars-07-15-2014-1077
END:VEVENT

END:VCALENDAR
