BEGIN:VCALENDAR
VERSION:2.0
PRODID:-//ChamberMaster//Event Calendar 2.0//EN
METHOD:PUBLISH
X-PUBLISHED-TTL:P3D
REFRESH-INTERVAL:P3D
CALSCALE:GREGORIAN
BEGIN:VEVENT
DTSTART:20140715T230000Z
DTEND:20140716T010000Z
X-MICROSOFT-CDO-ALLDAYEVENT:FALSE
SUMMARY:Southern Rock Under The Stars! at Clio Amphitheater
DESCRIPTION:Southern rock comes alive featuring the group Black Oak Arkansas who released a new album for Atlantic Records/Atco Records on October 15\, 2013 titled "Back Thar N' Over Yonder." Black Oak Arkansas will perform their classic hits from the 70's as well as their new releases. The Donny Hartman Band will be the opening act with legendary lead singer and guitarist for The Frost playing his favorite southern rock\, country and Rock-N-Roll hits. Gates open at 6 p.m. For details and a schedule of upcoming shows visit www.cliogovoffice.com.
X-ALT-DESC;FMTTYPE=text/html:Southern rock comes alive featuring the group Black Oak Arkansas who released a new album for Atlantic Records/Atco Records on October 15\, 2013 titled "Back Thar N' Over Yonder." Black Oak Arkansas will perform their classic hits from the 70's as well as their new releases. The Donny Hartman Band will be the opening act with legendary lead singer and guitarist for The Frost playing his favorite southern rock\, country and Rock-N-Roll hits. Gates open at 6 p.m. For details and a schedule of upcoming shows visit <a title="Clio Amphitheater" href="http://www.clio.govoffice.com/index.asp?SEC=8C018E69-BDAB-4E5D-BDDF-D119AE895A2A&amp\;Type=B_BASIC" target="_blank">www.cliogovoffice.com</a>.
LOCATION:Clio Amphitheater 301 Rogers Lodge Drive Clio Michigan
UID:e.2606.879
SEQUENCE:3
DTSTAMP:20260421T083646Z
URL:https://members.flintandgeneseechamber.org/events/details/southern-rock-under-the-stars-at-clio-amphitheater-07-15-2014-879
END:VEVENT

END:VCALENDAR
