BEGIN:VCALENDAR
VERSION:2.0
PRODID:-//ChamberMaster//Event Calendar 2.0//EN
METHOD:PUBLISH
X-PUBLISHED-TTL:P3D
REFRESH-INTERVAL:P3D
CALSCALE:GREGORIAN
BEGIN:VEVENT
DTSTART:20140307T150000Z
DTEND:20140307T220000Z
X-MICROSOFT-CDO-ALLDAYEVENT:FALSE
SUMMARY:''Space: A Journey To Our Future'' Exhibit at the Sloan Museum
DESCRIPTION:Ignite your desire for discovery\, spark your imagination and inspire new generations of explorers to dream of the possibilities that lie ahead in this exciting Space exhibit. Take an adventurous trip in space and touch actual rocks from the lunar surface and the red planet\, explore a future Lunar Base Camp and take a spin on a centrifuge that you power like a bicycle. Get an up-close look at a wide range of artifacts from the space program as well as displays on the new spacecraft that will go back to the Moon and beyond. Experience the past\, present and future of space through dozens of other displays\, inter-actives and experiences. For details and a schedule of upcoming exhibits visit www.sloanlongway.com.
X-ALT-DESC;FMTTYPE=text/html:Ignite your desire for discovery\, spark your imagination and inspire new generations of explorers to dream of the possibilities that lie ahead in this exciting Space exhibit. Take an adventurous trip in space and touch actual rocks from the lunar surface and the red planet\, explore a future Lunar Base Camp and take a spin on a centrifuge that you power like a bicycle. Get an up-close look at a wide range of artifacts from the space program as well as displays on the new spacecraft that will go back to the Moon and beyond. Experience the past\, present and future of space through dozens of other displays\, inter-actives and experiences. For details and a schedule of upcoming exhibits visit <a title="Sloan Museum " href="http://www.sloanlongway.com/" target="_blank">www.sloanlongway.com</a>.
LOCATION:Sloan Museum 1221 E. Kearsley Street Flint Michigan 48503
UID:e.2606.687
SEQUENCE:3
DTSTAMP:20260421T125844Z
URL:https://members.flintandgeneseechamber.org/events/details/space-a-journey-to-our-future-exhibit-at-the-sloan-museum-03-07-2014-687
END:VEVENT

END:VCALENDAR
