BEGIN:VCALENDAR
VERSION:2.0
PRODID:-//ChamberMaster//Event Calendar 2.0//EN
METHOD:PUBLISH
X-PUBLISHED-TTL:P3D
REFRESH-INTERVAL:P3D
CALSCALE:GREGORIAN
BEGIN:VEVENT
DTSTART:20130801T210000Z
DTEND:20130802T000000Z
X-MICROSOFT-CDO-ALLDAYEVENT:FALSE
SUMMARY:Special Evening Event - Two Birds Ribbon Cutting
DESCRIPTION:Two Birds and FGCC invite you to a Special Evening Event at Two Birds. \n\nRibbon Cutting and Refreshments.\n\n*$100.00 Two Birds Gift Card Giveaway*\n\n*Caldrea Gift Basket Giveaway*\n\n*Must be present to win\, drawing at 7:00pm\n\nwww.twobirdsdesignanddecor.com\n\n810-487-2089
X-ALT-DESC;FMTTYPE=text/html:Two Birds and FGCC invite you to a<strong> Special Evening Event at Two Birds. </strong>\n\nRibbon Cutting and Refreshments.\n\n*$100.00 Two Birds Gift Card Giveaway*\n\n*Caldrea Gift Basket Giveaway*\n\n*Must be present to win\, drawing at 7:00pm\n\n<a href="http://www.twobirdsdesignanddecor.com">www.twobirdsdesignanddecor.com</a>\n\n810-487-2089
LOCATION:Two Birds 1551 E. Pierson Road Flushing MI 48433
UID:e.2606.423
SEQUENCE:3
DTSTAMP:20260421T233752Z
URL:https://members.flintandgeneseechamber.org/events/details/special-evening-event-two-birds-ribbon-cutting-08-01-2013-423
END:VEVENT

END:VCALENDAR
