BEGIN:VCALENDAR
VERSION:2.0
PRODID:-//ChamberMaster//Event Calendar 2.0//EN
METHOD:PUBLISH
X-PUBLISHED-TTL:P3D
REFRESH-INTERVAL:P3D
CALSCALE:GREGORIAN
BEGIN:VEVENT
DTSTART:20131015T213000Z
DTEND:20131016T000000Z
X-MICROSOFT-CDO-ALLDAYEVENT:FALSE
SUMMARY:Speed Networking Event
DESCRIPTION:Area Chambers are hosting a Speed Networking Event!!\n\nNetworking with local business professionals from all over Genesee County!!\n\nTuesday\, October 15th\n\nNetworking at 5:30\n\nSpeed round begins at 6:00\n\nAdmission $5.00\n\nAppetizers and Adults Refreshment Served\n\nMember and non-members Welcome!\n\nContact the Grand Blanc Chamber for details at (810) 695-4222
X-ALT-DESC;FMTTYPE=text/html:Area Chambers are hosting a Speed Networking Event!!\n\nNetworking with local business professionals from all over Genesee County!!\n\nTuesday\, October 15th\n\nNetworking at 5:30\n\nSpeed round begins at 6:00\n\nAdmission $5.00\n\nAppetizers and Adults Refreshment Served\n\nMember and non-members Welcome!\n\nContact the Grand Blanc Chamber for details at (810) 695-4222
LOCATION:MLive / Flint Jounal 540 S. Saginaw St. Flint MI 48502
UID:e.2606.554
SEQUENCE:3
DTSTAMP:20260421T201619Z
URL:https://members.flintandgeneseechamber.org/events/details/speed-networking-event-10-15-2013-554
END:VEVENT

END:VCALENDAR
