BEGIN:VCALENDAR
VERSION:2.0
PRODID:-//ChamberMaster//Event Calendar 2.0//EN
METHOD:PUBLISH
X-PUBLISHED-TTL:P3D
REFRESH-INTERVAL:P3D
CALSCALE:GREGORIAN
BEGIN:VEVENT
DTSTART:20131025T220000Z
DTEND:20131026T020000Z
X-MICROSOFT-CDO-ALLDAYEVENT:FALSE
SUMMARY:Spooky Networking - An All Chamber Halloween Party
DESCRIPTION:Spooky Networking!   Join members from six Genesee County chambers for some spooktacular networking. Costumes encouraged\, but not required.\n\nThere will be a DJ\, light dinner and drink specials.\n\nCost: $15 per person or $25 per couple.\n\nCostume Contests for:\n\n	Overall Best Costume\n	Funniest Costume\n	Couple Costume\n	Scariest Costume\n\nWin up to $100!
X-ALT-DESC;FMTTYPE=text/html:Spooky Networking!   Join members from six Genesee County chambers for some spooktacular networking. Costumes encouraged\, but not required.\n\nThere will be a DJ\, light dinner and drink specials.\n\nCost: $15 per person or $25 per couple.\n\nCostume Contests for:\n<ul>\n	<li>Overall Best Costume</li>\n	<li>Funniest Costume</li>\n	<li>Couple Costume</li>\n	<li>Scariest Costume</li>\n</ul>\nWin up to $100!\n\n&nbsp\;\n\n&nbsp\;
LOCATION:Sharkey's 4050 Center R oad Burton MI 48519
UID:e.2606.553
SEQUENCE:3
DTSTAMP:20260421T202916Z
URL:https://members.flintandgeneseechamber.org/events/details/spooky-networking-an-all-chamber-halloween-party-10-25-2013-553
END:VEVENT

END:VCALENDAR
