BEGIN:VCALENDAR
VERSION:2.0
PRODID:-//ChamberMaster//Event Calendar 2.0//EN
METHOD:PUBLISH
X-PUBLISHED-TTL:P3D
REFRESH-INTERVAL:P3D
CALSCALE:GREGORIAN
BEGIN:VEVENT
DTSTART;VALUE=DATE:20130912
DTEND;VALUE=DATE:20130916
TRANSP:TRANSPARENT
X-MICROSOFT-CDO-ALLDAYEVENT:TRUE
SUMMARY:St. John Parish Fenton ''Applefest''
DESCRIPTION:Have fun during the 41st annual St. John Fenton Applefest featuring an entertainment tent\, carnival rides\, kid's area\, a Farmer's Market\, doll booth\, Bingo and lots more. For a detailed schedule of activities visit www.stjohnapplefest.org.
X-ALT-DESC;FMTTYPE=text/html:Have fun during the 41st annual St. John Fenton Applefest featuring an entertainment tent\, carnival rides\, kid's area\, a Farmer's Market\, doll booth\, Bingo and lots more. For a detailed schedule of activities visit <a title="St. John the Evangelist Catholic Parish " href="http://www.stjohnapplefest.org/" target="_blank">www.stjohnapplefest.org</a>.
LOCATION:St. John the Evangelist catholic Parish 600 N. Adelaide Street Fenton Michigan
UID:e.2606.46
SEQUENCE:3
DTSTAMP:20260421T220251Z
URL:https://members.flintandgeneseechamber.org/events/details/st-john-parish-fenton-applefest-09-12-2013-46
END:VEVENT

END:VCALENDAR
