BEGIN:VCALENDAR
VERSION:2.0
PRODID:-//ChamberMaster//Event Calendar 2.0//EN
METHOD:PUBLISH
X-PUBLISHED-TTL:P3D
REFRESH-INTERVAL:P3D
CALSCALE:GREGORIAN
BEGIN:VEVENT
DTSTART;VALUE=DATE:20130518
DTEND;VALUE=DATE:20130519
TRANSP:TRANSPARENT
X-MICROSOFT-CDO-ALLDAYEVENT:TRUE
SUMMARY:“Star Party” at Longway Planetarium
DESCRIPTION:www.sloanlongway.org
X-ALT-DESC;FMTTYPE=text/html:<a href="http://www.sloanlongway.org/" target="_blank">www.sloanlongway.org</a>
LOCATION:
UID:e.2606.103
SEQUENCE:3
DTSTAMP:20260422T041840Z
URL:https://members.flintandgeneseechamber.org/events/details/star-party-at-longway-planetarium-05-18-2013-103
END:VEVENT

END:VCALENDAR
