BEGIN:VCALENDAR
VERSION:2.0
PRODID:-//ChamberMaster//Event Calendar 2.0//EN
METHOD:PUBLISH
X-PUBLISHED-TTL:P3D
REFRESH-INTERVAL:P3D
CALSCALE:GREGORIAN
BEGIN:VEVENT
DTSTART:20131013T000000Z
DTEND:20131013T010000Z
X-MICROSOFT-CDO-ALLDAYEVENT:FALSE
SUMMARY:''Star Party'' at Longway Planetarium
DESCRIPTION:Head inside the dome and journey to the skies in a star show. After the show\, if the sky is clear\, stroll outside and admire the amazing objects in the sky through a telescope. Check out the planets\, the Moon and star clusters. Feel free to bring your own telescope. This event is free and open to the public. Recommended for ages five and up. For details and a schedule of upcoming events visit www.SloanLongway.org.
X-ALT-DESC;FMTTYPE=text/html:Head inside the dome and journey to the skies in a star show. After the show\, if the sky is clear\, stroll outside and admire the amazing objects in the sky through a telescope. Check out the planets\, the Moon and star clusters. Feel free to bring your own telescope. This event is free and open to the public. Recommended for ages five and up. For details and a schedule of upcoming events visit <a title="Longway Planetarium " href="http://sloanlongway2.tru-m.com/longway-planetarium/about-planetarium" target="_blank">www.SloanLongway.org</a>.
LOCATION:Longway Planetarium 1310 E. Kearsley Street Flint Michigan
UID:e.2606.567
SEQUENCE:3
DTSTAMP:20260421T202752Z
URL:https://members.flintandgeneseechamber.org/events/details/star-party-at-longway-planetarium-10-12-2013-567
END:VEVENT

END:VCALENDAR
