BEGIN:VCALENDAR
VERSION:2.0
PRODID:-//ChamberMaster//Event Calendar 2.0//EN
METHOD:PUBLISH
X-PUBLISHED-TTL:P3D
REFRESH-INTERVAL:P3D
CALSCALE:GREGORIAN
BEGIN:VEVENT
DTSTART:20130521T190000Z
DTEND:20130521T230000Z
X-MICROSOFT-CDO-ALLDAYEVENT:FALSE
SUMMARY:Starting a Nonprofit Organization
DESCRIPTION:Are you passionate about a certain issue or topic? Do you want to make change happen? The Johnson Center for Philanthropy and the BEST Project have joined together to bring you this seminar which will cover the key steps to start and successfully run a nonprofit organization. Learn how to turn your passion into a reality.\n\nThe fee for this seminar is $35.00.  For more information or to register\, click here.
X-ALT-DESC;FMTTYPE=text/html:Are you passionate about a certain issue or topic? Do you want to make change happen? The Johnson Center for Philanthropy and the BEST Project have joined together to bring you this seminar which will cover the key steps to start and successfully run a nonprofit organization. Learn how to turn your passion into a reality.\n\nThe fee for this seminar is $35.00.  For more information or to register\, <a title="Starting a Nonprofit Organization" href="http://bestprojectonline.org/eventdetail.asp?id=411" target="_blank">click here</a>.
LOCATION:YWCA 310 E. Third Street Flint MI 48502
UID:e.2606.169
SEQUENCE:3
DTSTAMP:20260422T041703Z
URL:https://members.flintandgeneseechamber.org/events/details/starting-a-nonprofit-organization-05-21-2013-169
END:VEVENT

END:VCALENDAR
