BEGIN:VCALENDAR
VERSION:2.0
PRODID:-//ChamberMaster//Event Calendar 2.0//EN
METHOD:PUBLISH
X-PUBLISHED-TTL:P3D
REFRESH-INTERVAL:P3D
CALSCALE:GREGORIAN
BEGIN:VEVENT
DTSTART:20140729T180000Z
DTEND:20140730T190000Z
X-MICROSOFT-CDO-ALLDAYEVENT:FALSE
SUMMARY:State of Michigan: 2-Part Webinar Training
DESCRIPTION:Jenni Riehle\, Vendor Outreach Coordinator with the State of Michigan DTMB-Procurement Department\, will discuss everything you need to know to become a registered vendor and ready to do business with the State of Michigan.\n\nThis is a two-day webinar training where the first day will focus on Contracting 101 and day two will focus on Preparing a Request for Proposal.\n\nDates:  July 29 and July 30\, 2014\n\nTime:  2:00 - 3:00 p.m.\n\nLocation:  Online\n\nUpon registering you will receive a confirmation email with login details to the webinars.\n\nPlease register at: ptac@flintandgenesee.org or 810-600-1437
X-ALT-DESC;FMTTYPE=text/html:Jenni Riehle\, Vendor Outreach Coordinator with the State of Michigan DTMB-Procurement Department\, will discuss everything you need to know to become a registered vendor and ready to do business with the State of Michigan.\n\nThis is a two-day webinar training where the first day will focus on Contracting 101 and day two will focus on Preparing a Request for Proposal.\n\nDates:  July 29 and July 30\, 2014\n\nTime:  2:00 - 3:00 p.m.\n\nLocation:  Online\n\nUpon registering you will receive a confirmation email with login details to the webinars.\n\nPlease register at: ptac@flintandgenesee.org or 810-600-1437\n\n&nbsp\;\n\n&nbsp\;
LOCATION:
UID:e.2606.1023
SEQUENCE:3
DTSTAMP:20260421T084758Z
URL:https://members.flintandgeneseechamber.org/events/details/state-of-michigan-2-part-webinar-training-07-29-2014-1023
END:VEVENT

END:VCALENDAR
