BEGIN:VCALENDAR
VERSION:2.0
PRODID:-//ChamberMaster//Event Calendar 2.0//EN
METHOD:PUBLISH
X-PUBLISHED-TTL:P3D
REFRESH-INTERVAL:P3D
CALSCALE:GREGORIAN
BEGIN:VEVENT
DTSTART:20140729T180000Z
DTEND:20140729T190000Z
X-MICROSOFT-CDO-ALLDAYEVENT:FALSE
SUMMARY:State of Michigan 2-Part Webinars
DESCRIPTION:These webinars will focus on Contracting 101 and Preparing a Quality Proposal.\n\nJennifer Riehle\, Vendor Outreach Coordinator with the State of Michigan DTMB-Procurement Department\, will discuss everything you need to know to become a registered vendor and ready to do business with the State of Michigan.\n\nDates:  July 29 and July 30\, 2014\n\nTime:  2:00 - 3:00 p.m.\n\nLocation:  Online\n\nRegistration is required\, please contact Jenni at: RiehleJ2@michigan.gov
X-ALT-DESC;FMTTYPE=text/html:These webinars will focus on Contracting 101 and Preparing a Quality Proposal.\n\nJennifer Riehle\, Vendor Outreach Coordinator with the State of Michigan DTMB-Procurement Department\, will discuss everything you need to know to become a registered vendor and ready to do business with the State of Michigan.\n\nDates:  July 29 and July 30\, 2014\n\nTime:  2:00 - 3:00 p.m.\n\nLocation:  Online\n\nRegistration is required\, please contact Jenni at: <a href="mailto:RiehleJ2@michigan.gov">RiehleJ2@michigan.gov</a>
LOCATION:
UID:e.2606.1021
SEQUENCE:3
DTSTAMP:20260421T084818Z
URL:https://members.flintandgeneseechamber.org/events/details/state-of-michigan-2-part-webinars-07-29-2014-1021
END:VEVENT

END:VCALENDAR
