BEGIN:VCALENDAR
VERSION:2.0
PRODID:-//ChamberMaster//Event Calendar 2.0//EN
METHOD:PUBLISH
X-PUBLISHED-TTL:P3D
REFRESH-INTERVAL:P3D
CALSCALE:GREGORIAN
BEGIN:VEVENT
DTSTART:20240524T153000Z
DTEND:20240524T160000Z
X-MICROSOFT-CDO-ALLDAYEVENT:FALSE
SUMMARY:Storytime at Applewood
DESCRIPTION:We invite you to family friendly Storytime! We will be reading the book "Every Little Seed" by Cynthia Schumerth. You can drop in between 11:30 a.m. 12:15 p.m. to listen to the story and visit our Storytime activity station.\n\n\n\nStorytime is outdoors. Please dress for the weather and bring your sunscreen\, bug spray\, and blankets to sit on if you prefer.\n\n\n\nAmerican Sign Language interpretation will be provided.
X-ALT-DESC;FMTTYPE=text/html:We invite you to family friendly Storytime! We will be reading the book &ldquo\;Every Little Seed&rdquo\; by Cynthia Schumerth. You can drop in between 11:30 a.m.&ndash\;12:15 p.m. to listen to the story and visit our Storytime activity station.<br />\n<br />\nStorytime is outdoors. Please dress for the weather and bring your sunscreen\, bug spray\, and blankets to sit on if you prefer.<br />\n<br />\nAmerican Sign Language interpretation will be provided.
LOCATION:Applewood Estate 1400 E. Kearsley St. Flint\, MI 48503
UID:e.2606.18233
SEQUENCE:3
DTSTAMP:20260421T150809Z
URL:https://members.flintandgeneseechamber.org/events/details/storytime-at-applewood-05-24-2024-18233
END:VEVENT

END:VCALENDAR
