BEGIN:VCALENDAR
VERSION:2.0
PRODID:-//ChamberMaster//Event Calendar 2.0//EN
METHOD:PUBLISH
X-PUBLISHED-TTL:P3D
REFRESH-INTERVAL:P3D
CALSCALE:GREGORIAN
BEGIN:VEVENT
DTSTART:20140328T150000Z
DTEND:20140328T170000Z
X-MICROSOFT-CDO-ALLDAYEVENT:FALSE
SUMMARY:Strategic Management: African American Advisory Committee Lunch & Learn
DESCRIPTION:Topic: Strategic Management\n\nPresenter: Dale Tuttle\, School of Management & Entrepreneurial Leadership\, University of Michigan-Flint\n\nCost: $10 (includes a boxed lunch)\; payment accepted at door\n\nLocation: Riverfront Center\, Michigan Center for Entrepreneurial Leadership of the School of Management\, University of Michigan-Flint\, Room 2317\n\nParking: Riverfront Ramp or Parking Lot at Kearsley & Saginaw Streets\n\nQuestions about the Lunch & Learn Series? Contact Linda Ryals-Massey at LRyalsMassey@comcast.net or 810.938.4608.
X-ALT-DESC;FMTTYPE=text/html:Topic: Strategic Management\n\nPresenter: Dale Tuttle\, School of Management &amp\; Entrepreneurial Leadership\, University of Michigan-Flint\n\nCost: $10 (includes a boxed lunch)\; payment accepted at door\n\nLocation: Riverfront Center\, Michigan Center for Entrepreneurial Leadership of the School of Management\, University of Michigan-Flint\, Room 2317\n\nParking: Riverfront Ramp or Parking Lot at Kearsley &amp\; Saginaw Streets\n\nQuestions about the Lunch &amp\; Learn Series? Contact Linda Ryals-Massey at <a href="mailto:LRyalsMassey@comcast.net">LRyalsMassey@comcast.net</a> or 810.938.4608.\n\n&nbsp\;
LOCATION:Riverfront Student Center University of Michigan-Flint Business School 1 Riverfront Center West Flint MI 48502
UID:e.2606.821
SEQUENCE:3
DTSTAMP:20260421T125238Z
URL:https://members.flintandgeneseechamber.org/events/details/strategic-management-african-american-advisory-committee-lunch-learn-03-28-2014-821
END:VEVENT

END:VCALENDAR
