BEGIN:VCALENDAR
VERSION:2.0
PRODID:-//ChamberMaster//Event Calendar 2.0//EN
METHOD:PUBLISH
X-PUBLISHED-TTL:P3D
REFRESH-INTERVAL:P3D
CALSCALE:GREGORIAN
BEGIN:VEVENT
DTSTART:20140613T150000Z
DTEND:20140613T153000Z
X-MICROSOFT-CDO-ALLDAYEVENT:FALSE
SUMMARY:Studio Ave. Salon & Boutique (formerly Garibella's) Ribbon Cutting
DESCRIPTION:Join us as we celebrate the Grand Opening of Studio Ave. Salon & Boutique.\n\nUnder new ownership the Salon has taken on a new look.  Now offering Full Service Salon Services\, Hair Care\, Nail Care\, Men's Grooming\, Skin & Hair care products and a Boutique featuring locally made clothing and accessories.\n\nGrand Opening Special-$5 off any Hair or Nail service to all who attend.\n\n \n\nCeremonies will begin around 11am and Ribbon Cutting at 11:15am.
X-ALT-DESC;FMTTYPE=text/html:Join us as we celebrate the Grand Opening of Studio Ave. Salon &amp\; Boutique.\n\nUnder new ownership the Salon has taken on a new look.  Now offering Full Service Salon Services\, Hair Care\, Nail Care\, Men's Grooming\, Skin &amp\; Hair care products and a Boutique featuring locally made clothing and accessories.\n\nGrand Opening Special-$5 off any Hair or Nail service to all who attend.\n\n&nbsp\;\n\nCeremonies will begin around 11am and Ribbon Cutting at 11:15am.\n\n&nbsp\;\n\n&nbsp\;
LOCATION:Studio Ave. Salon & boutique 555 South Saginaw Street Flint MI 48502
UID:e.2606.1027
SEQUENCE:3
DTSTAMP:20260421T085036Z
URL:https://members.flintandgeneseechamber.org/events/details/studio-ave-salon-boutique-formerly-garibella-s-ribbon-cutting-06-13-2014-1027
END:VEVENT

END:VCALENDAR
