BEGIN:VCALENDAR
VERSION:2.0
PRODID:-//ChamberMaster//Event Calendar 2.0//EN
METHOD:PUBLISH
X-PUBLISHED-TTL:P3D
REFRESH-INTERVAL:P3D
CALSCALE:GREGORIAN
BEGIN:VEVENT
DTSTART:20130627T173000Z
DTEND:20130627T183000Z
X-MICROSOFT-CDO-ALLDAYEVENT:FALSE
SUMMARY:Succession Planning Webinar
DESCRIPTION:It’s a fact\; all business owners will exit their business at some time. When it happens\, and with how much control depends on their preparation. Owners spend a lifetime building their businesses but often give little thought to what will happen before they are ready to retire. Without a well-developed plan\, the business will suffer disruptions\, projects will come to a halt and employee morale will fall. The continuation of the organization may become unclear. Failure to plan could sow the seeds for costly litigation\, as expectations about unreasonable wealth distribution and rights to ownership may have been formed.\n\nPlease join the Michigan Manufacturing Technology Center (MMTC)\, the Flint & Genesee Chamber of Commerce PTAC and the Chamber Education & Training department for this free webinar to learn more about MMTC’s Family Business Advisor program.\n\nKEY FOCUS AREAS\n\n	Strategy Planning\n	Succession Planning\n	Transition Strategy\n	Family Councils\n	Training Needs Analysis\n	Executive Coaching\n	Trusts\n	Operating Agreement\n	Financial Planning\n	By/Sell Agreement\n	"Key Man" Insurance\n	Business Valuation\n\nTo Register: Contact Chelsea Schutz at ptac@flintandgenesee.org or (810) 600-1437.
X-ALT-DESC;FMTTYPE=text/html:It’s a fact\; all business owners will exit their business at some time. When it happens\, and with how much control depends on their preparation. Owners spend a lifetime building their businesses but often give little thought to what will happen before they are ready to retire. Without a well-developed plan\, the business will suffer disruptions\, projects will come to a halt and employee morale will fall. The continuation of the organization may become unclear. Failure to plan could sow the seeds for costly litigation\, as expectations about unreasonable wealth distribution and rights to ownership may have been formed.\n\nPlease join the <a href="http://www.mmtc.org" target="_blank">Michigan Manufacturing Technology Center (MMTC)</a>\, the <a href="http://www.flintandgenesee.org/ptac">Flint &amp\; Genesee Chamber of Commerce PTAC</a> and the Chamber Education &amp\; Training department for this free webinar to learn more about MMTC’s Family Business Advisor program.\n\n<strong>KEY FOCUS AREAS</strong>\n<ul>\n	<li>Strategy Planning</li>\n	<li>Succession Planning</li>\n	<li>Transition Strategy</li>\n	<li>Family Councils</li>\n	<li>Training Needs Analysis</li>\n	<li>Executive Coaching</li>\n	<li>Trusts</li>\n	<li>Operating Agreement</li>\n	<li>Financial Planning</li>\n	<li>By/Sell Agreement</li>\n	<li>"Key Man" Insurance</li>\n	<li>Business Valuation</li>\n</ul>\n<strong>To Register:</strong> Contact Chelsea Schutz at <a href="mailto:ptac@flintandgenesee.org">ptac@flintandgenesee.org</a> or (810) 600-1437.\n\n&nbsp\;
LOCATION:
UID:e.2606.203
SEQUENCE:3
DTSTAMP:20260422T023032Z
URL:https://members.flintandgeneseechamber.org/events/details/succession-planning-webinar-06-27-2013-203
END:VEVENT

END:VCALENDAR
