BEGIN:VCALENDAR
VERSION:2.0
PRODID:-//ChamberMaster//Event Calendar 2.0//EN
METHOD:PUBLISH
X-PUBLISHED-TTL:P3D
REFRESH-INTERVAL:P3D
CALSCALE:GREGORIAN
BEGIN:VEVENT
DTSTART:20130614T230000Z
DTEND:20130617T010000Z
X-MICROSOFT-CDO-ALLDAYEVENT:FALSE
SUMMARY:Summer Theater Festival presents Shakespeare's ''Much Ado About Nothing'' at Kearsley Park
DESCRIPTION:Enjoy this family-friendly live event at Flint's Kearsley Park Pavilion.
X-ALT-DESC;FMTTYPE=text/html:Enjoy this family-friendly live event at Flint's Kearsley Park Pavilion.
LOCATION:Kearsley Park 900-971 Kearsley Park Blvd Flint Michigan
UID:e.2606.188
SEQUENCE:3
DTSTAMP:20260422T023943Z
URL:https://members.flintandgeneseechamber.org/events/details/summer-theater-festival-presents-shakespeare-s-much-ado-about-nothing-at-kearsley-park-06-14-2013-188
END:VEVENT

END:VCALENDAR
