BEGIN:VCALENDAR
VERSION:2.0
PRODID:-//ChamberMaster//Event Calendar 2.0//EN
METHOD:PUBLISH
X-PUBLISHED-TTL:P3D
REFRESH-INTERVAL:P3D
CALSCALE:GREGORIAN
BEGIN:VEVENT
DTSTART:20140426T150000Z
DTEND:20140426T160000Z
X-MICROSOFT-CDO-ALLDAYEVENT:FALSE
SUMMARY:Super Saturday Storytime
DESCRIPTION:Join a Library staff member for themed stories\, literacy and hands-on crafts in the Children's Room with a focus on "Los Libros Celebration" this weekend. For a detailed schedule of activities visit www.fpl.info.
X-ALT-DESC;FMTTYPE=text/html:Join a Library staff member for themed stories\, literacy and hands-on crafts in the Children's Room with a focus on "Los Libros Celebration" this weekend. For a detailed schedule of activities visit <a title="Flint Public Library" href="http://www.fpl.info/" target="_blank">www.fpl.info</a>.
LOCATION:Flint Public Library - Main Branch 1026 E. Kearsley Street Flint Michigan 48503
UID:e.2606.887
SEQUENCE:3
DTSTAMP:20260421T112335Z
URL:https://members.flintandgeneseechamber.org/events/details/super-saturday-storytime-04-26-2014-887
END:VEVENT

END:VCALENDAR
