BEGIN:VCALENDAR
VERSION:2.0
PRODID:-//ChamberMaster//Event Calendar 2.0//EN
METHOD:PUBLISH
X-PUBLISHED-TTL:P3D
REFRESH-INTERVAL:P3D
CALSCALE:GREGORIAN
BEGIN:VEVENT
DTSTART:20140222T173000Z
DTEND:20140223T183000Z
X-MICROSOFT-CDO-ALLDAYEVENT:FALSE
SUMMARY:''Super Sky Show'' at Longway Planetarium
DESCRIPTION:Come take a tour of the nighttime sky with host Seymour Sky with guests Sun\, Earth\, Queen Cassiopeia and others. Clap\, sing and play along with Seymour as children enjoy a sky safari to visit animal constellations\, counting the stars of the Big Dipper\, clapping along to songs and having laughs along the way. Recommended for ages 4 and older. For details and a schedule of upcoming shows visit www.sloanlongway.com.
X-ALT-DESC;FMTTYPE=text/html:Come take a tour of the nighttime sky with host Seymour Sky with guests Sun\, Earth\, Queen Cassiopeia and others. Clap\, sing and play along with Seymour as children enjoy a sky safari to visit animal constellations\, counting the stars of the Big Dipper\, clapping along to songs and having laughs along the way. Recommended for ages 4 and older. For details and a schedule of upcoming shows visit <a title="Longway Planetarium" href="http://www.sloanlongway.com/" target="_blank">www.sloanlongway.com</a>.
LOCATION:Longway Planetarium 1310 E. Kearsley Street Flint Michigan
UID:e.2606.753
SEQUENCE:3
DTSTAMP:20260421T142732Z
URL:https://members.flintandgeneseechamber.org/events/details/super-sky-show-at-longway-planetarium-02-22-2014-753
END:VEVENT

END:VCALENDAR
