BEGIN:VCALENDAR
VERSION:2.0
PRODID:-//ChamberMaster//Event Calendar 2.0//EN
METHOD:PUBLISH
X-PUBLISHED-TTL:P3D
REFRESH-INTERVAL:P3D
CALSCALE:GREGORIAN
BEGIN:VEVENT
DTSTART:20130507T173000Z
DTEND:20130507T183000Z
X-MICROSOFT-CDO-ALLDAYEVENT:FALSE
SUMMARY:Surety Bonds ... Who Needs Them Bonding Webinar for Contractors
DESCRIPTION:IBCS Fidelity\, Inc. with cooperation from Genesee Regional PTAC is pleased to offer a free webinar for contractors on this vital subject.\n\n	General Contractors need Performance and Payment Bonds when seeking public contracts such as city\, state\, and federal work.\n	Subcontractors needs them to satisfy the bonding requiredments of GCs.\n	No bond = no contract!\n\nThis FREE program will include:\n\n	Bonding 101 - The Key to Public Contracts\n	How the need for bonds arise\n	The Underwriting Process\n	An Overview of the Surety Market\n	Application process - How to Qualify for Support\n\nWhere: Online through GoToMeeting.com - please register with Chelsea and she will email you details.\n\nWhen: Tuesday\, May 7\, \n1:30 p.m. to 2:30 p.m\n\nTo Register: Contact Chelsea Schutz at (810) 600-1437 or ptac@flintandgenesee.org.
X-ALT-DESC;FMTTYPE=text/html:IBCS Fidelity\, Inc. with cooperation from Genesee Regional PTAC is pleased to offer a <strong>free webinar</strong> for contractors on this vital subject.\n<ul>\n	<li>General Contractors need Performance and Payment Bonds when seeking public contracts such as city\, state\, and federal work.</li>\n	<li>Subcontractors needs them to satisfy the bonding requiredments of GCs.</li>\n	<li>No bond = no contract!</li>\n</ul>\n<strong>This FREE program will include:</strong>\n<ul>\n	<li>Bonding 101 - The Key to Public Contracts</li>\n	<li>How the need for bonds arise</li>\n	<li>The Underwriting Process</li>\n	<li>An Overview of the Surety Market</li>\n	<li>Application process - How to Qualify for Support</li>\n</ul>\n<strong>Where:</strong><strong> </strong>Online through GoToMeeting.com - please register with Chelsea and she will email you details.\n\n<strong>When:</strong><strong> </strong>Tuesday\, May 7\, \n1:30 p.m. to 2:30 p.m\n\n<strong>To Register:</strong> Contact Chelsea Schutz at (810) 600-1437 or <a href="mailto:ptac@flintandgenesee.org">ptac@flintandgenesee.org</a>.
LOCATION:
UID:e.2606.162
SEQUENCE:3
DTSTAMP:20260422T041832Z
URL:https://members.flintandgeneseechamber.org/events/details/surety-bonds-who-needs-them-bonding-webinar-for-contractors-05-07-2013-162
END:VEVENT

END:VCALENDAR
