BEGIN:VCALENDAR
VERSION:2.0
PRODID:-//ChamberMaster//Event Calendar 2.0//EN
METHOD:PUBLISH
X-PUBLISHED-TTL:P3D
REFRESH-INTERVAL:P3D
CALSCALE:GREGORIAN
BEGIN:VEVENT
DTSTART:20130424T220000Z
DTEND:20130424T233000Z
X-MICROSOFT-CDO-ALLDAYEVENT:FALSE
SUMMARY:Swartz Creek Area Chamber of Commerce Facebook Basics for Business and Mobile Marketing
DESCRIPTION:Come learn all the new basics for marketing your business on Facebook and Facebook Mobile Marketing. You can't ignore it any longer. Members are free and small price to non-members 810-733-8882.  For more information visit the Swartz Creek Chamber of Commerce.
X-ALT-DESC;FMTTYPE=text/html:Come learn all the new basics for marketing your business on Facebook and Facebook Mobile Marketing. You can't ignore it any longer. Members are free and small price to non-members 810-733-8882.  For more information visit the <a href="http://www.swartzcreekchamber.org" target="_blank">Swartz Creek Chamber of Commerce</a>.
LOCATION:America's Best Value Inn & Suites 6075 Hill 23 Drive Flint Michigan 48507
UID:e.2606.150
SEQUENCE:3
DTSTAMP:20260422T055929Z
URL:https://members.flintandgeneseechamber.org/events/details/swartz-creek-area-chamber-of-commerce-facebook-basics-for-business-and-mobile-marketing-04-24-2013-150
END:VEVENT

END:VCALENDAR
