BEGIN:VCALENDAR
VERSION:2.0
PRODID:-//ChamberMaster//Event Calendar 2.0//EN
METHOD:PUBLISH
X-PUBLISHED-TTL:P3D
REFRESH-INTERVAL:P3D
CALSCALE:GREGORIAN
BEGIN:VEVENT
DTSTART:20130423T160000Z
DTEND:20130423T170000Z
X-MICROSOFT-CDO-ALLDAYEVENT:FALSE
SUMMARY:Swartz Creek Area Chamber of Commerce Lunch On Us
DESCRIPTION:This luncheon is always fun. We welcome you to come check out all the new things going on in Swartz Creek. We have so much new going on in the town you are bound to meet new business people you have not met yet. So be sure to bring plenty of cards with you. You will need them.\n\nFor more information call (810) 733-8882 or visit www.swartzcreekchamber.org.
X-ALT-DESC;FMTTYPE=text/html:This luncheon is always fun. We welcome you to come check out all the new things going on in Swartz Creek. We have so much new going on in the town you are bound to meet new business people you have not met yet. So be sure to bring plenty of cards with you. You will need them.\n\nFor more information call (810) 733-8882 or visit <a href="http://www.swartzcreekchamber.org" target="_blank">www.swartzcreekchamber.org</a>.
LOCATION:Swartz Creek Community Ed at the Cage Field 4110 Morrish Rd. Swartz Creek MI 48473
UID:e.2606.142
SEQUENCE:3
DTSTAMP:20260422T055811Z
URL:https://members.flintandgeneseechamber.org/events/details/swartz-creek-area-chamber-of-commerce-lunch-on-us-04-23-2013-142
END:VEVENT

END:VCALENDAR
