BEGIN:VCALENDAR
VERSION:2.0
PRODID:-//ChamberMaster//Event Calendar 2.0//EN
METHOD:PUBLISH
X-PUBLISHED-TTL:P3D
REFRESH-INTERVAL:P3D
CALSCALE:GREGORIAN
BEGIN:VEVENT
DTSTART:20130528T160000Z
DTEND:20130528T170000Z
X-MICROSOFT-CDO-ALLDAYEVENT:FALSE
SUMMARY:Swartz Creek Area Chamber of Commerce Lunch On Us
DESCRIPTION:Come check out all the new things and wonderful food that Woodhaven has to offer.\n\nFor more information call (810) 733-8882 or visit www.swartzcreekchamber.org.
X-ALT-DESC;FMTTYPE=text/html:Come check out all the new things and wonderful food that Woodhaven has to offer.\n\nFor more information call (810) 733-8882 or visit <a href="http://www.swartzcreekchamber.org" target="_blank">www.swartzcreekchamber.org</a>.
LOCATION:Woodhaven 5201 Woodhaven Court Flint MI 48532
UID:e.2606.138
SEQUENCE:3
DTSTAMP:20260422T042221Z
URL:https://members.flintandgeneseechamber.org/events/details/swartz-creek-area-chamber-of-commerce-lunch-on-us-05-28-2013-138
END:VEVENT

END:VCALENDAR
