BEGIN:VCALENDAR
VERSION:2.0
PRODID:-//ChamberMaster//Event Calendar 2.0//EN
METHOD:PUBLISH
X-PUBLISHED-TTL:P3D
REFRESH-INTERVAL:P3D
CALSCALE:GREGORIAN
BEGIN:VEVENT
DTSTART:20130723T160000Z
DTEND:20130723T170000Z
X-MICROSOFT-CDO-ALLDAYEVENT:FALSE
SUMMARY:Swartz Creek Area Chamber of Commerce Lunch On Us
DESCRIPTION:This is a great opportunity for you to not only take care of your business by meeting new contacts and re-engaging with old ones. You could call and schedule an appointment for your car. J.J. & the crew would be more than glad to change your oil while you are inside growing your business. You have to take care of that car so you can take care of your business.\n\nFor more information call (810) 733-8882 or visit www.swartzcreekchamber.org.
X-ALT-DESC;FMTTYPE=text/html:This is a great opportunity for you to not only take care of your business by meeting new contacts and re-engaging with old ones. You could call and schedule an appointment for your car. J.J. &amp\; the crew would be more than glad to change your oil while you are inside growing your business. You have to take care of that car so you can take care of your business.\n\nFor more information call (810) 733-8882 or visit <a href="http://www.swartzcreekchamber.org" target="_blank">www.swartzcreekchamber.org</a>.
LOCATION:Randy Wise Auto Mall 4350 Lennon Rd. Flint MI 48507
UID:e.2606.137
SEQUENCE:3
DTSTAMP:20260422T010129Z
URL:https://members.flintandgeneseechamber.org/events/details/swartz-creek-area-chamber-of-commerce-lunch-on-us-07-23-2013-137
END:VEVENT

END:VCALENDAR
