BEGIN:VCALENDAR
VERSION:2.0
PRODID:-//ChamberMaster//Event Calendar 2.0//EN
METHOD:PUBLISH
X-PUBLISHED-TTL:P3D
REFRESH-INTERVAL:P3D
CALSCALE:GREGORIAN
BEGIN:VEVENT
DTSTART:20130827T160000Z
DTEND:20130827T170000Z
X-MICROSOFT-CDO-ALLDAYEVENT:FALSE
SUMMARY:Swartz Creek Area Chamber of Commerce Lunch On Us
DESCRIPTION:There is no better way to celebrate summer during the working week day than at Tropical Smoothie Flint. You can visit with old business associates and make new ones all while enjoying some refreshing & healthy food and smoothies.\n\nFor more information call (810) 733-8882 or visit www.swartzcreekchamber.org.
X-ALT-DESC;FMTTYPE=text/html:There is no better way to celebrate summer during the working week day than at Tropical Smoothie Flint. You can visit with old business associates and make new ones all while enjoying some refreshing &amp\; healthy food and smoothies.\n\nFor more information call (810) 733-8882 or visit <a href="http://www.swartzcreekchamber.org">www.swartzcreekchamber.org</a>.
LOCATION:Tropical Smoothie Cafe 2103 S. Linden Rd. Flint MI 48532
UID:e.2606.133
SEQUENCE:3
DTSTAMP:20260421T234254Z
URL:https://members.flintandgeneseechamber.org/events/details/swartz-creek-area-chamber-of-commerce-lunch-on-us-08-27-2013-133
END:VEVENT

END:VCALENDAR
