BEGIN:VCALENDAR
VERSION:2.0
PRODID:-//ChamberMaster//Event Calendar 2.0//EN
METHOD:PUBLISH
X-PUBLISHED-TTL:P3D
REFRESH-INTERVAL:P3D
CALSCALE:GREGORIAN
BEGIN:VEVENT
DTSTART:20130924T160000Z
DTEND:20130924T170000Z
X-MICROSOFT-CDO-ALLDAYEVENT:FALSE
SUMMARY:Swartz Creek Area Chamber of Commerce Lunch On Us
DESCRIPTION:Come check out what is new at B's Bowling. It's a great place for an office party. If you have time after networking\, grab a ball and and lane and try not to hit to many gutters. Frank or one of the crew would love to talk to you about hosting an event for you.\n\nFor more information call (810) 733-8882 or visit www.swartzcreekchamber.org.
X-ALT-DESC;FMTTYPE=text/html:Come check out what is new at B's Bowling. It's a great place for an office party. If you have time after networking\, grab a ball and and lane and try not to hit to many gutters. Frank or one of the crew would love to talk to you about hosting an event for you.\n\nFor more information call (810) 733-8882 or visit <a href="http://www.swartzcreekchamber.org">www.swartzcreekchamber.org</a>.
LOCATION:B's Bowling 750 S. Center Rd. Flint MI 48506
UID:e.2606.134
SEQUENCE:3
DTSTAMP:20260421T220413Z
URL:https://members.flintandgeneseechamber.org/events/details/swartz-creek-area-chamber-of-commerce-lunch-on-us-09-24-2013-134
END:VEVENT

END:VCALENDAR
