BEGIN:VCALENDAR
VERSION:2.0
PRODID:-//ChamberMaster//Event Calendar 2.0//EN
METHOD:PUBLISH
X-PUBLISHED-TTL:P3D
REFRESH-INTERVAL:P3D
CALSCALE:GREGORIAN
BEGIN:VEVENT
DTSTART:20131022T160000Z
DTEND:20131022T170000Z
X-MICROSOFT-CDO-ALLDAYEVENT:FALSE
SUMMARY:Swartz Creek Area Chamber of Commerce Lunch On Us
DESCRIPTION:Come meet Cheryl and her crew at ELGA Credit Union as they host this month's luncheon. You are sure to meet new people.\n\nFor more information call (810) 733-8882 or visit www.swartzcreekchamber.org.
X-ALT-DESC;FMTTYPE=text/html:Come meet Cheryl and her crew at ELGA Credit Union as they host this month's luncheon. You are sure to meet new people.\n\nFor more information call (810) 733-8882 or visit <a href="http://www.swartzcreekchamber.org">www.swartzcreekchamber.org</a>.
LOCATION:
UID:e.2606.125
SEQUENCE:3
DTSTAMP:20260421T203159Z
URL:https://members.flintandgeneseechamber.org/events/details/swartz-creek-area-chamber-of-commerce-lunch-on-us-10-22-2013-125
END:VEVENT

END:VCALENDAR
