BEGIN:VCALENDAR
VERSION:2.0
PRODID:-//ChamberMaster//Event Calendar 2.0//EN
METHOD:PUBLISH
X-PUBLISHED-TTL:P3D
REFRESH-INTERVAL:P3D
CALSCALE:GREGORIAN
BEGIN:VEVENT
DTSTART:20131126T170000Z
DTEND:20131126T180000Z
X-MICROSOFT-CDO-ALLDAYEVENT:FALSE
SUMMARY:Swartz Creek Area Chamber of Commerce Lunch On Us
DESCRIPTION:CLets help Chris Hamilton and his awesome crew kick off their "No Child Left Behind" season. They do so much for the community. Lets come support them and see what is new with them.\n\nFor more information call (810) 733-8882 or visit www.swartzcreekchamber.org.
X-ALT-DESC;FMTTYPE=text/html:CLets help Chris Hamilton and his awesome crew kick off their "No Child Left Behind" season. They do so much for the community. Lets come support them and see what is new with them.\n\nFor more information call (810) 733-8882 or visit <a href="http://www.swartzcreekchamber.org" target="_blank">www.swartzcreekchamber.org</a>.
LOCATION:Old Newsboys of Greater Flint 6255 Taylor Dr. Flint MI 48507
UID:e.2606.147
SEQUENCE:3
DTSTAMP:20260421T185349Z
URL:https://members.flintandgeneseechamber.org/events/details/swartz-creek-area-chamber-of-commerce-lunch-on-us-11-26-2013-147
END:VEVENT

END:VCALENDAR
