BEGIN:VCALENDAR
VERSION:2.0
PRODID:-//ChamberMaster//Event Calendar 2.0//EN
METHOD:PUBLISH
X-PUBLISHED-TTL:P3D
REFRESH-INTERVAL:P3D
CALSCALE:GREGORIAN
BEGIN:VEVENT
DTSTART:20130625T160000Z
DTEND:20130625T173000Z
X-MICROSOFT-CDO-ALLDAYEVENT:FALSE
SUMMARY:Swartz Creek Area Chamber of Commerce's Annual STARZ Award Luncheon
DESCRIPTION:This year's Swartz Creek Area Chamber of Commerce's Annual STARZ Award Luncheon benefits Whaley's. It is a great way to not only network but help out Whaley's while we recognize some outstanding people in our community. We always have a great time at this one. Please bring lots of business cards - everyone from all over the area will be there.\n\nKeep checking back at www.swartzcreekchamber.org as exciting new details arise & don't forget about our auction.\n\nLocation TBA. Call (810) 733-8882 for more information.
X-ALT-DESC;FMTTYPE=text/html:This year's Swartz Creek Area Chamber of Commerce's Annual STARZ Award Luncheon benefits Whaley's. It is a great way to not only network but help out Whaley's while we recognize some outstanding people in our community. We always have a great time at this one. Please bring lots of business cards - everyone from all over the area will be there.\n\nKeep checking back at <a href="http://www.swartzcreekchamber.org" target="_blank">www.swartzcreekchamber.org</a> as exciting new details arise &amp\; don't forget about our auction.\n\nLocation TBA. Call (810) 733-8882 for more information.
LOCATION:
UID:e.2606.135
SEQUENCE:3
DTSTAMP:20260422T023931Z
URL:https://members.flintandgeneseechamber.org/events/details/swartz-creek-area-chamber-of-commerce-s-annual-starz-award-luncheon-06-25-2013-135
END:VEVENT

END:VCALENDAR
