BEGIN:VCALENDAR
VERSION:2.0
PRODID:-//ChamberMaster//Event Calendar 2.0//EN
METHOD:PUBLISH
X-PUBLISHED-TTL:P3D
REFRESH-INTERVAL:P3D
CALSCALE:GREGORIAN
BEGIN:VEVENT
DTSTART:20131206T110000Z
DTEND:20131206T140000Z
X-MICROSOFT-CDO-ALLDAYEVENT:FALSE
SUMMARY:Swartz Creek Area Chamber of Commerce Whatchamacallit
DESCRIPTION:Not your typical networking function. Come check out all the cool stuff going on at 6 am-9am a Great way to say Happy Holidays to your regular business associates and meet some new one for 2014.\n\nStay tuned to www.swartzcreekchamber.org for more exciting details. This is a do not miss event. Call (810) 733-8882 for more information.
X-ALT-DESC;FMTTYPE=text/html:Not your typical networking function. Come check out all the cool stuff going on at 6 am-9am a Great way to say Happy Holidays to your regular business associates and meet some new one for 2014.\n\nStay tuned to <a href="http://www.swartzcreekchamber.org" target="_blank">www.swartzcreekchamber.org</a> for more exciting details. This is a do not miss event. Call (810) 733-8882 for more information.
LOCATION:Financial Plus Credit Union - Main Branch 3381 Van Slyke Rd. Flint MI 48507
UID:e.2606.130
SEQUENCE:3
DTSTAMP:20260421T171700Z
URL:https://members.flintandgeneseechamber.org/events/details/swartz-creek-area-chamber-of-commerce-whatchamacallit-12-06-2013-130
END:VEVENT

END:VCALENDAR
