BEGIN:VCALENDAR
VERSION:2.0
PRODID:-//ChamberMaster//Event Calendar 2.0//EN
METHOD:PUBLISH
X-PUBLISHED-TTL:P3D
REFRESH-INTERVAL:P3D
CALSCALE:GREGORIAN
BEGIN:VEVENT
DTSTART;VALUE=DATE:20130530
DTEND;VALUE=DATE:20130603
TRANSP:TRANSPARENT
X-MICROSOFT-CDO-ALLDAYEVENT:TRUE
SUMMARY:Swartz Creek Home Town Days
DESCRIPTION:Enjoy family-fun activities\, "Where Everyone Feels at Home"\, including carnival rides\, a car show\, entertainment and expo tent\, a parade\, a 5K Challenge\, Friday night fireworks display and much more. For a detailed schedule of activities visit http://www.hometowndays.org/.
X-ALT-DESC;FMTTYPE=text/html:Enjoy family-fun activities\, "Where Everyone Feels at Home"\, including carnival rides\, a car show\, entertainment and expo tent\, a parade\, a 5K Challenge\, Friday night fireworks display and much more. For a detailed schedule of activities visit <a href="http://www.hometowndays.org/" target="_blank">http://www.hometowndays.org/</a>.
LOCATION:
UID:e.2606.73
SEQUENCE:3
DTSTAMP:20260422T023303Z
URL:https://members.flintandgeneseechamber.org/events/details/swartz-creek-home-town-days-05-30-2013-73
END:VEVENT

END:VCALENDAR
