BEGIN:VCALENDAR
VERSION:2.0
PRODID:-//ChamberMaster//Event Calendar 2.0//EN
METHOD:PUBLISH
X-PUBLISHED-TTL:P3D
REFRESH-INTERVAL:P3D
CALSCALE:GREGORIAN
BEGIN:VEVENT
DTSTART:20240428T000000Z
DTEND:20240428T020000Z
X-MICROSOFT-CDO-ALLDAYEVENT:FALSE
SUMMARY:Symphony of the Soul: A Night of Music and Mindfulness
DESCRIPTION:Join us for the debut of Symphony of the Soul: A Night of Music and Mindfulness. This pioneering and heart enriching experience at the majestic FIM Capitol Theatre in Flint\, Michigan\, is a first-of-its-kind immersive symphonic breathwork journey led by Vivian Rosenthal\, founder of Frequency Breathwork\, featuring musicians of the Flint Symphony Orchestra.\n\nThis event marks the beginning of a new era in holistic wellness   where music and mindfulness come together in perfect harmony. This immersive and uplifting experience is designed to bring you into your heart\, through the weaving together of meditation and live symphonic music\, set against a backdrop of stunning sacred geometry projections.\n\nThe event begins with a short introduction to breathwork\, a mindfulness meditation practice that is deeply calming and restorative. Participants are invited to sink into a state of tranquility\, with the option to follow along with the guided breathwork meditation or simply soak in the sounds of the music and the beauty of the animated projections.\n\nThis event is more than a concert\, it's a space of connection. It's a call to come together as a community\, forging new friendships\, uplifting ourselves and one another in a shared\, transcendent experience.\n\nSymphony of the Soul culminates in a moment of silent reflection\, allowing the audience to internalize their experiences. The event closes with a feeling of rejuvenation\, harmony\, and a profound connection to both the self and the surrounding community. It's an unforgettable experience that nurtures the mind\, body\, and spirit\, leaving participants with a sense of peace and well-being that lingers long after the final note has faded.\n\nProceeds from ticket sales support a pioneering breathwork study being held at the Diamond Rose retreat center in partnership with the Heroic Hearts Project\, a non-profit organization serving U.S. military veterans. The study aims to show the efficacy of breathwork to treat PTSD and help alleviate mental health struggles.\n\nTo learn more\, please visit:\n\nVivian Rosenthal\n\nHeroic Hearts Project\n\nDiamond Rose Sanctuary\n\nFrequency Breathwork
X-ALT-DESC;FMTTYPE=text/html:<p>Join us for the debut of&nbsp\;<em>Symphony of the Soul: A Night of Music and Mindfulness.&nbsp\;</em>This pioneering and heart enriching experience at the majestic FIM Capitol Theatre in Flint\, Michigan\, is a first-of-its-kind immersive symphonic breathwork journey&nbsp\;led by Vivian Rosenthal\, founder of Frequency Breathwork\, featuring musicians of the Flint Symphony Orchestra.</p>\n\n<p>This event marks the beginning of a new era in holistic wellness &ndash\; where music and mindfulness come together in perfect harmony. This immersive and uplifting experience is designed to bring you into your heart\, through the weaving together of meditation and live symphonic music\, set against a backdrop of stunning sacred geometry projections.</p>\n\n<p>The event begins with a short introduction to breathwork\, a mindfulness meditation practice that is deeply calming and restorative. Participants are invited to sink into a state of tranquility\, with the option to follow along with the guided breathwork meditation or simply soak in the sounds of the music and the beauty of the animated projections.</p>\n\n<p>This event is more than a concert\, it&rsquo\;s a space of connection. It&rsquo\;s a call to come together as a community\, forging new friendships\, uplifting ourselves and one another in a shared\, transcendent experience.</p>\n\n<p><em>Symphony of the Soul</em>&nbsp\;culminates in a moment of silent reflection\, allowing the audience to internalize their experiences. The event closes with a feeling of rejuvenation\, harmony\, and a profound connection to both the self and the surrounding community. It&rsquo\;s an unforgettable experience that nurtures the mind\, body\, and spirit\, leaving participants with a sense of peace and well-being that lingers long after the final note has faded.</p>\n\n<p>Proceeds from ticket sales support a pioneering breathwork study being held at the Diamond Rose retreat center in partnership with the Heroic Hearts Project\, a non-profit organization serving U.S. military veterans. The study aims to show the efficacy of breathwork to treat PTSD and help alleviate mental health struggles.</p>\n\n<p>To learn more\, please visit:<br />\n<a href="https://www.vivianrosenthal.com/" style="box-sizing: border-box\; background-color: transparent\; color: rgb(86\, 102\, 245)\; text-underline-offset: 2px\; transition: color 0.3s ease 0s\, opacity 0.3s ease 0s\;">Vivian Rosenthal</a><br />\n<a href="https://heroicheartsproject.org/" style="box-sizing: border-box\; background-color: transparent\; color: rgb(86\, 102\, 245)\; text-underline-offset: 2px\; transition: color 0.3s ease 0s\, opacity 0.3s ease 0s\;">Heroic Hearts Project</a><br />\n<a href="https://diamondrosesanctuary.com/" style="box-sizing: border-box\; background-color: transparent\; color: rgb(86\, 102\, 245)\; text-underline-offset: 2px\; transition: color 0.3s ease 0s\, opacity 0.3s ease 0s\;">Diamond Rose Sanctuary</a><br />\n<a href="https://frequencybreathwork.com/" style="box-sizing: border-box\; background-color: transparent\; color: rgb(86\, 102\, 245)\; text-underline-offset: 2px\; transition: color 0.3s ease 0s\, opacity 0.3s ease 0s\;">Frequency Breathwork</a></p>\n
LOCATION:FIM Capitol Theatre 140 E Second Street\, Flint\, MI 48502
UID:e.2606.18191
SEQUENCE:3
DTSTAMP:20260424T074859Z
URL:https://members.flintandgeneseechamber.org/events/details/symphony-of-the-soul-a-night-of-music-and-mindfulness-18191
END:VEVENT

END:VCALENDAR
