BEGIN:VCALENDAR
VERSION:2.0
PRODID:-//ChamberMaster//Event Calendar 2.0//EN
METHOD:PUBLISH
X-PUBLISHED-TTL:P3D
REFRESH-INTERVAL:P3D
CALSCALE:GREGORIAN
BEGIN:VEVENT
DTSTART:20140807T200000Z
DTEND:20140808T000000Z
X-MICROSOFT-CDO-ALLDAYEVENT:FALSE
SUMMARY:Taste in Fenton
DESCRIPTION:Taste in Fenton\, Thursday August 7th.\, 4-8pm\n\nHeld at the Fenton Community & Cultural Center Grounds.\n\n \n\nFor more information please contact the Fenton Chamber at 810-629-5447
X-ALT-DESC;FMTTYPE=text/html:Taste in Fenton\, Thursday August 7th.\, 4-8pm\n\nHeld at the Fenton Community &amp\; Cultural Center Grounds.\n\n&nbsp\;\n\nFor more information please contact the Fenton Chamber at 810-629-5447
LOCATION:
UID:e.2606.1045
SEQUENCE:3
DTSTAMP:20260421T082958Z
URL:https://members.flintandgeneseechamber.org/events/details/taste-in-fenton-08-07-2014-1045
END:VEVENT

END:VCALENDAR
