BEGIN:VCALENDAR
VERSION:2.0
PRODID:-//ChamberMaster//Event Calendar 2.0//EN
METHOD:PUBLISH
X-PUBLISHED-TTL:P3D
REFRESH-INTERVAL:P3D
CALSCALE:GREGORIAN
BEGIN:VEVENT
DTSTART:20130810T160000Z
DTEND:20130811T000000Z
X-MICROSOFT-CDO-ALLDAYEVENT:FALSE
SUMMARY:Taste in Fenton
DESCRIPTION:Enjoy sampling the delicious tastes that Fenton has to offer. Family fun activities all afternoon. For a detailed schedule of activities visit www.fentonchamber.com.
X-ALT-DESC;FMTTYPE=text/html:Enjoy sampling the delicious tastes that Fenton has to offer. Family fun activities all afternoon. For a detailed schedule of activities visit <a href="http://www.fentonchamber.com/">www.fentonchamber.com</a>.
LOCATION:Fenton Community & Cultural Center 150 S. Leroy Street Fenton Michigan
UID:e.2606.45
SEQUENCE:3
DTSTAMP:20260421T233710Z
URL:https://members.flintandgeneseechamber.org/events/details/taste-in-fenton-08-10-2013-45
END:VEVENT

END:VCALENDAR
