BEGIN:VCALENDAR
VERSION:2.0
PRODID:-//ChamberMaster//Event Calendar 2.0//EN
METHOD:PUBLISH
X-PUBLISHED-TTL:P3D
REFRESH-INTERVAL:P3D
CALSCALE:GREGORIAN
BEGIN:VEVENT
DTSTART:20130725T210000Z
DTEND:20130726T000000Z
X-MICROSOFT-CDO-ALLDAYEVENT:FALSE
SUMMARY:Taste of Grand Blanc
DESCRIPTION:Sample the delicious tastes and smells of Grand Blanc while visiting with old friends and networking with new ones. For details and a list of participating Grand Blanc restaurants visit www.grandblancchamber.com.
X-ALT-DESC;FMTTYPE=text/html:Sample the delicious tastes and smells of Grand Blanc while visiting with old friends and networking with new ones. For details and a list of participating Grand Blanc restaurants visit <a href="http://www.grandblancchamber.com/" target="_blank">www.grandblancchamber.com</a>.
LOCATION:Captain's Club at Woodfield 10200 Woodfield Drive Grand Blanc Michigan 48439
UID:e.2606.61
SEQUENCE:3
DTSTAMP:20260422T004857Z
URL:https://members.flintandgeneseechamber.org/events/details/taste-of-grand-blanc-07-25-2013-61
END:VEVENT

END:VCALENDAR
