BEGIN:VCALENDAR
VERSION:2.0
PRODID:-//ChamberMaster//Event Calendar 2.0//EN
METHOD:PUBLISH
X-PUBLISHED-TTL:P3D
REFRESH-INTERVAL:P3D
CALSCALE:GREGORIAN
BEGIN:VEVENT
DTSTART:20140628T150000Z
DTEND:20140628T190000Z
X-MICROSOFT-CDO-ALLDAYEVENT:FALSE
SUMMARY:Taste of the Market at Flint Farmers' Market
DESCRIPTION:Proudly sponsored by Dort Federal Credit Union\, this signature event features 6 to 8 local chefs from the American Culinary Federation\, each preparing a different healthy feast for market shoppers. For details and a schedule of upcoming events visit www.flintfarmersmarket.com.
X-ALT-DESC;FMTTYPE=text/html:Proudly sponsored by Dort Federal Credit Union\, this signature event features 6 to 8 local chefs from the American Culinary Federation\, each preparing a different healthy feast for market shoppers. For details and a schedule of upcoming events visit <a title="Flint Farmers' Market" href="http://flintfarmersmarket.com/" target="_blank">www.flintfarmersmarket.com</a>.\n\n&nbsp\;\n\n&nbsp\;\n\n&nbsp\;\n\n&nbsp\;
LOCATION:Flint Farmers' Market 300 E. First Street Flint Michigan 48502
UID:e.2606.819
SEQUENCE:3
DTSTAMP:20260421T103032Z
URL:https://members.flintandgeneseechamber.org/events/details/taste-of-the-market-at-flint-farmers-market-06-28-2014-819
END:VEVENT

END:VCALENDAR
