BEGIN:VCALENDAR
VERSION:2.0
PRODID:-//ChamberMaster//Event Calendar 2.0//EN
METHOD:PUBLISH
X-PUBLISHED-TTL:P3D
REFRESH-INTERVAL:P3D
CALSCALE:GREGORIAN
BEGIN:VEVENT
DTSTART:20130803T040000Z
DTEND:20130803T040000Z
X-MICROSOFT-CDO-ALLDAYEVENT:FALSE
SUMMARY:Taste of the Trail
DESCRIPTION:www.flushingchamber.com
X-ALT-DESC;FMTTYPE=text/html:<a href="http://www.flushingchamber.com/" target="_blank">www.flushingchamber.com</a>
LOCATION:
UID:e.2606.54
SEQUENCE:3
DTSTAMP:20260421T233828Z
URL:https://members.flintandgeneseechamber.org/events/details/taste-of-the-trail-08-03-2013-54
END:VEVENT

END:VCALENDAR
