BEGIN:VCALENDAR
VERSION:2.0
PRODID:-//ChamberMaster//Event Calendar 2.0//EN
METHOD:PUBLISH
X-PUBLISHED-TTL:P3D
REFRESH-INTERVAL:P3D
CALSCALE:GREGORIAN
BEGIN:VEVENT
DTSTART:20130725T210000Z
DTEND:20130725T230000Z
X-MICROSOFT-CDO-ALLDAYEVENT:FALSE
SUMMARY:TeenQuest Alumni Meet & Greet
DESCRIPTION:Attention all TeenQuest graduates! Please join us as we discuss the creation of a TeenQuest Alumni group and how it will benefit you and the TeenQuest program overall. This free event includes dinner.\n\n	5:00 p.m. to 6:00 p.m.: Socializing and meal\n	6:00 p.m. to 7:00 p.m.: Brainstorming and discussion of ideas\n\nOnline registration is now closed.  You may still register for this event by contacting Amy Watts at awatts@flintandgenesee.org or (810) 600-1459.
X-ALT-DESC;FMTTYPE=text/html:Attention all TeenQuest graduates! Please join us as we discuss the creation of a TeenQuest Alumni group and how it will benefit you and the TeenQuest program overall. This free event includes dinner.\n<ul>\n	<li>5:00 p.m. to 6:00 p.m.: Socializing and meal</li>\n	<li>6:00 p.m. to 7:00 p.m.: Brainstorming and discussion of ideas</li>\n</ul>\n<strong>Online registration is now closed.</strong>  You may still register for this event by contacting Amy Watts at <a href="mailto:awatts@flintandgenesee.org">awatts@flintandgenesee.org</a> or (810) 600-1459.
LOCATION:YouthQuest Main Office 4100 Pier North Blvd.\, Suite A Flint MI 48507
UID:e.2606.238
SEQUENCE:3
DTSTAMP:20260422T005508Z
URL:https://members.flintandgeneseechamber.org/events/details/teenquest-alumni-meet-greet-07-25-2013-238
END:VEVENT

END:VCALENDAR
