BEGIN:VCALENDAR
VERSION:2.0
PRODID:-//ChamberMaster//Event Calendar 2.0//EN
METHOD:PUBLISH
X-PUBLISHED-TTL:P3D
REFRESH-INTERVAL:P3D
CALSCALE:GREGORIAN
BEGIN:VEVENT
DTSTART;VALUE=DATE:20130328
DTEND;VALUE=DATE:20130329
TRANSP:TRANSPARENT
X-MICROSOFT-CDO-ALLDAYEVENT:TRUE
SUMMARY:TeenQuest Graduation
DESCRIPTION:
X-ALT-DESC;FMTTYPE=text/html:
LOCATION:
UID:e.2606.27
SEQUENCE:3
DTSTAMP:20260422T073236Z
URL:https://members.flintandgeneseechamber.org/events/details/teenquest-graduation-03-28-2013-27
END:VEVENT

END:VCALENDAR
