BEGIN:VCALENDAR
VERSION:2.0
PRODID:-//ChamberMaster//Event Calendar 2.0//EN
METHOD:PUBLISH
X-PUBLISHED-TTL:P3D
REFRESH-INTERVAL:P3D
CALSCALE:GREGORIAN
BEGIN:VEVENT
DTSTART;VALUE=DATE:20130326
DTEND;VALUE=DATE:20130327
TRANSP:TRANSPARENT
X-MICROSOFT-CDO-ALLDAYEVENT:TRUE
SUMMARY:TeenQuest Mock Interviews
DESCRIPTION:
X-ALT-DESC;FMTTYPE=text/html:
LOCATION:
UID:e.2606.25
SEQUENCE:3
DTSTAMP:20260422T073123Z
URL:https://members.flintandgeneseechamber.org/events/details/teenquest-mock-interviews-03-26-2013-25
END:VEVENT

END:VCALENDAR
