BEGIN:VCALENDAR
VERSION:2.0
PRODID:-//ChamberMaster//Event Calendar 2.0//EN
METHOD:PUBLISH
X-PUBLISHED-TTL:P3D
REFRESH-INTERVAL:P3D
CALSCALE:GREGORIAN
BEGIN:VEVENT
DTSTART;VALUE=DATE:20130225
DTEND;VALUE=DATE:20130329
TRANSP:TRANSPARENT
X-MICROSOFT-CDO-ALLDAYEVENT:TRUE
SUMMARY:TeenQuest Session 4
DESCRIPTION:
X-ALT-DESC;FMTTYPE=text/html:
LOCATION:
UID:e.2606.21
SEQUENCE:3
DTSTAMP:20260422T073452Z
URL:https://members.flintandgeneseechamber.org/events/details/teenquest-session-4-02-25-2013-21
END:VEVENT

END:VCALENDAR
