BEGIN:VCALENDAR
VERSION:2.0
PRODID:-//ChamberMaster//Event Calendar 2.0//EN
METHOD:PUBLISH
X-PUBLISHED-TTL:P3D
REFRESH-INTERVAL:P3D
CALSCALE:GREGORIAN
BEGIN:VEVENT
DTSTART:20140131T050000Z
DTEND:20140228T050000Z
X-MICROSOFT-CDO-ALLDAYEVENT:FALSE
SUMMARY:Test event
DESCRIPTION:Event over several days
X-ALT-DESC;FMTTYPE=text/html:Event over several days
LOCATION:
UID:e.2606.643
SEQUENCE:3
DTSTAMP:20260421T142348Z
URL:https://members.flintandgeneseechamber.org/events/details/test-event-01-31-2014-643
END:VEVENT

END:VCALENDAR
