BEGIN:VCALENDAR
VERSION:2.0
PRODID:-//ChamberMaster//Event Calendar 2.0//EN
METHOD:PUBLISH
X-PUBLISHED-TTL:P3D
REFRESH-INTERVAL:P3D
CALSCALE:GREGORIAN
BEGIN:VEVENT
DTSTART:20130606T040000Z
DTEND:20130607T040000Z
X-MICROSOFT-CDO-ALLDAYEVENT:FALSE
SUMMARY:Test Event
DESCRIPTION:Test Event (admin)
X-ALT-DESC;FMTTYPE=text/html:Test Event (admin)
LOCATION:ServPro of NW Genesee County 5223 Commerce Drive Flint MI 48507
UID:e.2606.191
SEQUENCE:3
DTSTAMP:20260422T023005Z
URL:https://members.flintandgeneseechamber.org/events/details/test-event-06-06-2013-191
END:VEVENT

END:VCALENDAR
