BEGIN:VCALENDAR
VERSION:2.0
PRODID:-//ChamberMaster//Event Calendar 2.0//EN
METHOD:PUBLISH
X-PUBLISHED-TTL:P3D
REFRESH-INTERVAL:P3D
CALSCALE:GREGORIAN
BEGIN:VEVENT
DTSTART:20140501T040000Z
DTEND:20140501T040000Z
X-MICROSOFT-CDO-ALLDAYEVENT:FALSE
SUMMARY:Test for Holly
DESCRIPTION:Test for location
X-ALT-DESC;FMTTYPE=text/html:Test for location
LOCATION:Flint & Genesee Chamber of Commerce 519 S. Saginaw St Flint Michigan 48502
UID:e.2606.794
SEQUENCE:3
DTSTAMP:20260423T094811Z
URL:https://members.flintandgeneseechamber.org/events/details/test-for-holly-05-01-2014-794
END:VEVENT

END:VCALENDAR
