BEGIN:VCALENDAR
VERSION:2.0
PRODID:-//ChamberMaster//Event Calendar 2.0//EN
METHOD:PUBLISH
X-PUBLISHED-TTL:P3D
REFRESH-INTERVAL:P3D
CALSCALE:GREGORIAN
BEGIN:VEVENT
DTSTART:20130806T123000Z
DTEND:20130808T193000Z
X-MICROSOFT-CDO-ALLDAYEVENT:FALSE
SUMMARY:The Branding Workshop - Helping Local Businesses Grow!
DESCRIPTION:You invited to attend this FREE Workshop!\n\nIf you are looking to unlock the secrets of branding\, growing your business and understanding the keys to successful advertising\,  this 45 minute free presentation is a must see.\n\nWe have plenty of times and days to choose from. We hope you can join us and let us help you grow your business by becoming “Known before you are Needed”…… the key to increasing sales.\n\nPick from one of the dates\, times below that is most convenient for you.\n\nTuesday August 6th at 8:30\, 10:30 am\,1:30 and 3:30pm\n\nWednesday  August 7th  at 8:30\, 10:30 am\,1:30pm\, 3:30pm\,  and 5:30pm\n\nThursday  August 8th at 8:30\, 10:30 am\, and 1:30pm\n\nLocation: Holiday Inn Gateway Center\, Hill Rd at US-23 Flint\, Mi. 48507\, Hill Road at US-23\n\nReserve your seat for this  free\, informative and information packed Workshop call Bobby Nies at 810-877-2700 email at Bobby.Nies@cumulus.com
X-ALT-DESC;FMTTYPE=text/html:You invited to attend this<strong> FREE</strong> Workshop!\n\nIf you are looking to unlock the secrets of branding\, growing your business and understanding the keys to successful advertising\,  this 45 minute free presentation is a must see.\n\nWe have plenty of times and days to choose from. We hope you can join us and let us help you grow your business by becoming “Known before you are Needed”…… the key to increasing sales.\n\nPick from one of the dates\, times below that is most convenient for you.\n\nTuesday August 6th at 8:30\, 10:30 am\,1:30 and 3:30pm\n\nWednesday  August 7th  at 8:30\, 10:30 am\,1:30pm\, 3:30pm\,  and 5:30pm\n\nThursday  August 8th at 8:30\, 10:30 am\, and 1:30pm\n\nLocation: Holiday Inn Gateway Center\, Hill Rd at US-23 Flint\, Mi. 48507\, Hill Road at US-23\n\nReserve your seat for this  free\, informative and information packed Workshop call Bobby Nies at 810-877-2700 email at Bobby.Nies@cumulus.com
LOCATION:Holiday Inn Gateway Centre 5353 Gateway Center Flint MI 48507
UID:e.2606.427
SEQUENCE:3
DTSTAMP:20260421T234202Z
URL:https://members.flintandgeneseechamber.org/events/details/the-branding-workshop-helping-local-businesses-grow-08-06-2013-427
END:VEVENT

END:VCALENDAR
